BEGIN:VCALENDAR
VERSION:2.0
PRODID:-//Opernhaus//NONSGML//EN
METHOD:PUBLISH
CLASS:PUBLIC
BEGIN:VEVENT
UID:26848769e88f4873ecc
DTSTART:20260429T170000Z
DTEND:20260429T193500Z
DTSTAMP:20260429T170000Z
CREATED:20260422T090512Z
LAST-MODIFIED:20260422T090512Z
SUMMARY:La clemenza di Tito
DESCRIPTION:Opera by Wolfgang Amadeus Mozart
LOCATION:Opernhaus Zürich
URL:https://www.opernhaus.ch/en/spielplan/calendar/la-clemenza-di-tito-1/
SEQUENCE:0
STATUS:CONFIRMED
TRANSP:OPAQUE
END:VEVENT
END:VCALENDAR