BEGIN:VCALENDAR
VERSION:2.0
PRODID:-//Opernhaus//NONSGML//EN
METHOD:PUBLISH
CLASS:PUBLIC
BEGIN:VEVENT
UID:117912769e88f4edce0f
DTSTART:20260429T133000Z
DTEND:20260429T143000Z
DTSTAMP:20260429T133000Z
CREATED:20260422T090518Z
LAST-MODIFIED:20260422T090518Z
SUMMARY:Guided Tour Opera House for Families (GER)
LOCATION:Opernhaus Zürich
URL:https://www.opernhaus.ch/en/spielplan/calendar/familienfuehrung-ohz/
SEQUENCE:0
STATUS:CONFIRMED
TRANSP:OPAQUE
END:VEVENT
END:VCALENDAR