BEGIN:VCALENDAR
VERSION:2.0
PRODID:-//Opernhaus//NONSGML//EN
METHOD:PUBLISH
CLASS:PUBLIC
BEGIN:VEVENT
UID:214687669e8a9246fd06
DTSTART:20260530T170000Z
DTEND:20260530T193000Z
DTSTAMP:20260530T170000Z
CREATED:20260422T105532Z
LAST-MODIFIED:20260422T105532Z
SUMMARY:Romeo und Julia
DESCRIPTION:Ballet by Cathy Marston
LOCATION:Opernhaus Zürich
URL:https://www.opernhaus.ch/en/spielplan/calendar/romeo-und-julia-1/
SEQUENCE:0
STATUS:CONFIRMED
TRANSP:OPAQUE
END:VEVENT
END:VCALENDAR