BEGIN:VCALENDAR
VERSION:2.0
PRODID:-//Opernhaus//NONSGML//EN
METHOD:PUBLISH
CLASS:PUBLIC
BEGIN:VEVENT
UID:60055069e8a883502e5
DTSTART:20260607T173000Z
DTEND:20260607T200000Z
DTSTAMP:20260607T173000Z
CREATED:20260422T105251Z
LAST-MODIFIED:20260422T105251Z
SUMMARY:Romeo und Julia
DESCRIPTION:Ballet by Cathy Marston
LOCATION:Opernhaus Zürich
URL:https://www.opernhaus.ch/en/spielplan/calendar/romeo-und-julia-1/
SEQUENCE:0
STATUS:CONFIRMED
TRANSP:OPAQUE
END:VEVENT
END:VCALENDAR