BEGIN:VCALENDAR
VERSION:2.0
PRODID:-//Opernhaus//NONSGML//EN
METHOD:PUBLISH
CLASS:PUBLIC
BEGIN:VEVENT
UID:96098669e8a81ba93cf
DTSTART:20260601T090000Z
DTEND:20260601T103000Z
DTSTAMP:20260601T090000Z
CREATED:20260422T105107Z
LAST-MODIFIED:20260422T105107Z
SUMMARY:Concert Kinderopernorchester
DESCRIPTION:For schools and families (8+)
LOCATION:Opernhaus Zürich
URL:https://www.opernhaus.ch/en/spielplan/calendar/kinderopernorchester/
SEQUENCE:0
STATUS:CONFIRMED
TRANSP:OPAQUE
END:VEVENT
END:VCALENDAR