BEGIN:VCALENDAR
VERSION:2.0
PRODID:-//Opernhaus//NONSGML//EN
METHOD:PUBLISH
CLASS:PUBLIC
BEGIN:VEVENT
UID:232074269e8a84b70221
DTSTART:20260610T170000Z
DTEND:20260610T190000Z
DTSTAMP:20260610T170000Z
CREATED:20260422T105155Z
LAST-MODIFIED:20260422T105155Z
SUMMARY:open space tanz
DESCRIPTION:Dance Workshop
LOCATION:Opernhaus Zürich
URL:https://www.opernhaus.ch/en/spielplan/calendar/open-space-tanz/
SEQUENCE:0
STATUS:CONFIRMED
TRANSP:OPAQUE
END:VEVENT
END:VCALENDAR