BEGIN:VCALENDAR
VERSION:2.0
PRODID:-//Opernhaus//NONSGML//EN
METHOD:PUBLISH
CLASS:PUBLIC
BEGIN:VEVENT
UID:192850469e8a81ba5b85
DTSTART:20260531T120000Z
DTEND:20260531T143000Z
DTSTAMP:20260531T120000Z
CREATED:20260422T105107Z
LAST-MODIFIED:20260422T105107Z
SUMMARY:Liederabend Piotr Beczała
LOCATION:Opernhaus Zürich
URL:https://www.opernhaus.ch/en/spielplan/calendar/liederabend-piotr-beczala-2/
SEQUENCE:0
STATUS:CONFIRMED
TRANSP:OPAQUE
END:VEVENT
END:VCALENDAR