BEGIN:VCALENDAR
VERSION:2.0
PRODID:-//Opernhaus//NONSGML//EN
METHOD:PUBLISH
CLASS:PUBLIC
BEGIN:VEVENT
UID:186539869eb3a49e4aa6
DTSTART:20260708T160000Z
DTEND:20260708T201500Z
DTSTAMP:20260708T160000Z
CREATED:20260424T093921Z
LAST-MODIFIED:20260424T093921Z
SUMMARY:Tannhäuser
DESCRIPTION:Opera by Richard Wagner
LOCATION:Opernhaus Zürich
URL:https://www.opernhaus.ch/en/spielplan/calendar/tannhaeuser-1/
SEQUENCE:0
STATUS:CONFIRMED
TRANSP:OPAQUE
END:VEVENT
END:VCALENDAR