BEGIN:VCALENDAR
VERSION:2.0
PRODID:-//Opernhaus//NONSGML//EN
METHOD:PUBLISH
CLASS:PUBLIC
BEGIN:VEVENT
UID:12523169eb3a4b74be8
DTSTART:20260710T173000Z
DTEND:20260710T201500Z
DTSTAMP:20260710T173000Z
CREATED:20260424T093923Z
LAST-MODIFIED:20260424T093923Z
SUMMARY:Werther
DESCRIPTION:Opera by Jules Massenet
LOCATION:Opernhaus Zürich
URL:https://www.opernhaus.ch/en/spielplan/calendar/werther/
SEQUENCE:0
STATUS:CONFIRMED
TRANSP:OPAQUE
END:VEVENT
END:VCALENDAR