BEGIN:VCALENDAR
VERSION:2.0
PRODID:-//Opernhaus//NONSGML//EN
METHOD:PUBLISH
CLASS:PUBLIC
BEGIN:VEVENT
UID:243334569eb3a16c3875
DTSTART:20260705T130000Z
DTEND:20260705T140000Z
DTSTAMP:20260705T130000Z
CREATED:20260424T093830Z
LAST-MODIFIED:20260424T093830Z
SUMMARY:Guided Tour Opera House
LOCATION:Opernhaus Zürich
URL:https://www.opernhaus.ch/en/spielplan/calendar/backstage-tour/
SEQUENCE:0
STATUS:CONFIRMED
TRANSP:OPAQUE
END:VEVENT
END:VCALENDAR