BEGIN:VCALENDAR
VERSION:2.0
PRODID:-//Opernhaus//NONSGML//EN
METHOD:PUBLISH
CLASS:PUBLIC
BEGIN:VEVENT
UID:23507269e765743fc60
DTSTART:20260503T091500Z
DTEND:20260503T103000Z
DTSTAMP:20260503T091500Z
CREATED:20260421T115428Z
LAST-MODIFIED:20260421T115428Z
SUMMARY:9. Kammerkonzert
LOCATION:Opernhaus Zürich
URL:https://www.opernhaus.ch/spielplan/kalendarium/9-kammerkonzert/
SEQUENCE:0
STATUS:CONFIRMED
TRANSP:OPAQUE
END:VEVENT
END:VCALENDAR