BEGIN:VCALENDAR
VERSION:2.0
PRODID:-//Opernhaus//NONSGML//EN
METHOD:PUBLISH
CLASS:PUBLIC
BEGIN:VEVENT
UID:87056569eb387fee259
DTSTART:20260506T133000Z
DTEND:20260506T143000Z
DTSTAMP:20260506T133000Z
CREATED:20260424T093143Z
LAST-MODIFIED:20260424T093143Z
SUMMARY:Familienführung Opernhaus
LOCATION:Opernhaus Zürich
URL:https://www.opernhaus.ch/spielplan/kalendarium/familienfuehrung-ohz/
SEQUENCE:0
STATUS:CONFIRMED
TRANSP:OPAQUE
END:VEVENT
END:VCALENDAR