BEGIN:VCALENDAR
VERSION:2.0
PRODID:-//Opernhaus//NONSGML//EN
METHOD:PUBLISH
CLASS:PUBLIC
BEGIN:VEVENT
UID:62481569e9e4c93fe67
DTSTART:20261031T180000Z
DTEND:20261031T200000Z
DTSTAMP:20261031T180000Z
CREATED:20260423T092217Z
LAST-MODIFIED:20260423T092217Z
SUMMARY:Ein Sommernachtstraum
DESCRIPTION:Ballett von Cathy Marston
LOCATION:Opernhaus Zürich
URL:https://www.opernhaus.ch/spielplan/kalendarium/ein-sommernachtstraum/
SEQUENCE:0
STATUS:CONFIRMED
TRANSP:OPAQUE
END:VEVENT
END:VCALENDAR