BEGIN:VCALENDAR
VERSION:2.0
PRODID:-//Opernhaus//NONSGML//EN
METHOD:PUBLISH
CLASS:PUBLIC
BEGIN:VEVENT
UID:60406569e9e53fcddaf
DTSTART:20261102T080000Z
DTEND:20261102T110000Z
DTSTAMP:20261102T080000Z
CREATED:20260423T092415Z
LAST-MODIFIED:20260423T092415Z
SUMMARY:Schulworkshop «Alice im Wunderland»
LOCATION:Opernhaus Zürich
URL:https://www.opernhaus.ch/spielplan/kalendarium/schulworkshop-alice-im-wunderland/
SEQUENCE:0
STATUS:CONFIRMED
TRANSP:OPAQUE
END:VEVENT
END:VCALENDAR