BEGIN:VCALENDAR
VERSION:2.0
PRODID:-//Opernhaus//NONSGML//EN
METHOD:PUBLISH
CLASS:PUBLIC
BEGIN:VEVENT
UID:200102569e8a746dc2f4
DTSTART:20260510T120000Z
DTEND:20260510T141000Z
DTSTAMP:20260510T120000Z
CREATED:20260422T104734Z
LAST-MODIFIED:20260422T104734Z
SUMMARY:La Damnation de Faust
DESCRIPTION:Oper von Hector Berlioz
LOCATION:Opernhaus Zürich
URL:https://www.opernhaus.ch/spielplan/kalendarium/la-damantion-de-faust/
SEQUENCE:0
STATUS:CONFIRMED
TRANSP:OPAQUE
END:VEVENT
END:VCALENDAR