BEGIN:VCALENDAR
VERSION:2.0
PRODID:-//Opernhaus//NONSGML//EN
METHOD:PUBLISH
CLASS:PUBLIC
BEGIN:VEVENT
UID:45591369e8a7189d2c5
DTSTART:20260512T170000Z
DTEND:20260512T200000Z
DTSTAMP:20260512T170000Z
CREATED:20260422T104648Z
LAST-MODIFIED:20260422T104648Z
SUMMARY:open space stimme
DESCRIPTION:Chor-Workshop
LOCATION:Opernhaus Zürich
URL:https://www.opernhaus.ch/spielplan/kalendarium/open-space-stimme/
SEQUENCE:0
STATUS:CONFIRMED
TRANSP:OPAQUE
END:VEVENT
END:VCALENDAR