BEGIN:VCALENDAR
VERSION:2.0
PRODID:-//Opernhaus//NONSGML//EN
METHOD:PUBLISH
CLASS:PUBLIC
BEGIN:VEVENT
UID:169584469e8a7d36b65b
DTSTART:20260516T141500Z
DTEND:20260516T151500Z
DTSTAMP:20260516T141500Z
CREATED:20260422T104955Z
LAST-MODIFIED:20260422T104955Z
SUMMARY:Führung Opernhaus
LOCATION:Opernhaus Zürich
URL:https://www.opernhaus.ch/spielplan/kalendarium/fuehrung_opernhaus/
SEQUENCE:0
STATUS:CONFIRMED
TRANSP:OPAQUE
END:VEVENT
END:VCALENDAR