BEGIN:VCALENDAR
VERSION:2.0
PRODID:-//Opernhaus//NONSGML//EN
METHOD:PUBLISH
CLASS:PUBLIC
BEGIN:VEVENT
UID:122520469e837e691f00
DTSTART:20260522T170000Z
DTEND:20260522T195000Z
DTSTAMP:20260522T170000Z
CREATED:20260422T025222Z
LAST-MODIFIED:20260422T025222Z
SUMMARY:Un ballo in maschera
DESCRIPTION:Oper von Giuseppe Verdi
LOCATION:Opernhaus Zürich
URL:https://www.opernhaus.ch/spielplan/kalendarium/un-ballo-in-maschera/
SEQUENCE:0
STATUS:CONFIRMED
TRANSP:OPAQUE
END:VEVENT
END:VCALENDAR