BEGIN:VCALENDAR
VERSION:2.0
PRODID:-//Opernhaus//NONSGML//EN
METHOD:PUBLISH
CLASS:PUBLIC
BEGIN:VEVENT
UID:217671569e8381fc4f59
DTSTART:20260520T170000Z
DTEND:20260520T190000Z
DTSTAMP:20260520T170000Z
CREATED:20260422T025319Z
LAST-MODIFIED:20260422T025319Z
SUMMARY:open space tanz
DESCRIPTION:Tanz-Workshop
LOCATION:Opernhaus Zürich
URL:https://www.opernhaus.ch/spielplan/kalendarium/open-space-tanz/
SEQUENCE:0
STATUS:CONFIRMED
TRANSP:OPAQUE
END:VEVENT
END:VCALENDAR