BEGIN:VCALENDAR
VERSION:2.0
PRODID:-//Opernhaus//NONSGML//EN
METHOD:PUBLISH
CLASS:PUBLIC
BEGIN:VEVENT
UID:77299269e8386cf19a9
DTSTART:20260518T170000Z
DTEND:20260518T190000Z
DTSTAMP:20260518T170000Z
CREATED:20260422T025436Z
LAST-MODIFIED:20260422T025436Z
SUMMARY:3. Konzert La Scintilla
LOCATION:Opernhaus Zürich
URL:https://www.opernhaus.ch/spielplan/kalendarium/3-konzert-la-scintilla/
SEQUENCE:0
STATUS:CONFIRMED
TRANSP:OPAQUE
END:VEVENT
END:VCALENDAR