BEGIN:VCALENDAR
VERSION:2.0
PRODID:-//Opernhaus//NONSGML//EN
METHOD:PUBLISH
CLASS:PUBLIC
BEGIN:VEVENT
UID:15066869e837923d824
DTSTART:20260525T141500Z
DTEND:20260525T151500Z
DTSTAMP:20260525T141500Z
CREATED:20260422T025058Z
LAST-MODIFIED:20260422T025058Z
SUMMARY:Führung Opernhaus
LOCATION:Opernhaus Zürich
URL:https://www.opernhaus.ch/spielplan/kalendarium/fuehrung_opernhaus/
SEQUENCE:0
STATUS:CONFIRMED
TRANSP:OPAQUE
END:VEVENT
END:VCALENDAR