BEGIN:VCALENDAR
VERSION:2.0
PRODID:-//Opernhaus//NONSGML//EN
METHOD:PUBLISH
CLASS:PUBLIC
BEGIN:VEVENT
UID:247020369eb2fd0d31d3
DTSTART:20260712T091500Z
DTEND:20260712T113000Z
DTSTAMP:20260712T091500Z
CREATED:20260424T085440Z
LAST-MODIFIED:20260424T085440Z
SUMMARY:Tugan Sokhiev
DESCRIPTION:7. Philharmonisches Konzert
LOCATION:Opernhaus Zürich
URL:https://www.opernhaus.ch/spielplan/kalendarium/7-philharmonisches-konzerttugan-sokhiev/
SEQUENCE:0
STATUS:CONFIRMED
TRANSP:OPAQUE
END:VEVENT
END:VCALENDAR