BEGIN:VCALENDAR
VERSION:2.0
PRODID:-//Opernhaus//NONSGML//EN
METHOD:PUBLISH
CLASS:PUBLIC
BEGIN:VEVENT
UID:252334769eb2f0a3aa65
DTSTART:20260704T173000Z
DTEND:20260704T193000Z
DTSTAMP:20260704T173000Z
CREATED:20260424T085122Z
LAST-MODIFIED:20260424T085122Z
SUMMARY:Next Generation
DESCRIPTION:Neue Choreografien von Mitgliedern des Balletts Zürich
LOCATION:Opernhaus Zürich
URL:https://www.opernhaus.ch/spielplan/kalendarium/next-generation/
SEQUENCE:0
STATUS:CONFIRMED
TRANSP:OPAQUE
END:VEVENT
END:VCALENDAR