BEGIN:VCALENDAR
VERSION:2.0
PRODID:-//Opernhaus//NONSGML//EN
METHOD:PUBLISH
CLASS:PUBLIC
BEGIN:VEVENT
UID:205871969eb2fb6eb5e5
DTSTART:20260704T180000Z
DTEND:20260704T194500Z
DTSTAMP:20260704T180000Z
CREATED:20260424T085414Z
LAST-MODIFIED:20260424T085414Z
SUMMARY:Wie du warst! Wie du bist!
DESCRIPTION:Musiktheater von Simon Steen-Andersen
LOCATION:Bernhard Theater
URL:https://www.opernhaus.ch/spielplan/kalendarium/wie-du-warst-wie-du-bist/
SEQUENCE:0
STATUS:CONFIRMED
TRANSP:OPAQUE
END:VEVENT
END:VCALENDAR