BEGIN:VCALENDAR
VERSION:2.0
PRODID:-//Opernhaus//NONSGML//EN
METHOD:PUBLISH
CLASS:PUBLIC
BEGIN:VEVENT
UID:9874769eb2ecca9403
DTSTART:20260711T180000Z
DTEND:20260711T194500Z
DTSTAMP:20260711T180000Z
CREATED:20260424T085020Z
LAST-MODIFIED:20260424T085020Z
SUMMARY:Wie du warst! Wie du bist!
DESCRIPTION:Musiktheater von Simon Steen-Andersen
LOCATION:Bernhard Theater
URL:https://www.opernhaus.ch/spielplan/kalendarium/wie-du-warst-wie-du-bist/
SEQUENCE:0
STATUS:CONFIRMED
TRANSP:OPAQUE
END:VEVENT
END:VCALENDAR