BEGIN:VCALENDAR
VERSION:2.0
PRODID:-//Opernhaus//NONSGML//EN
METHOD:PUBLISH
CLASS:PUBLIC
BEGIN:VEVENT
UID:249936469eb2d7160b87
DTSTART:20260711T130000Z
DTEND:20260711T140000Z
DTSTAMP:20260711T130000Z
CREATED:20260424T084433Z
LAST-MODIFIED:20260424T084433Z
SUMMARY:Führung Opernhaus
LOCATION:Opernhaus Zürich
URL:https://www.opernhaus.ch/spielplan/kalendarium/fuehrung_opernhaus/
SEQUENCE:0
STATUS:CONFIRMED
TRANSP:OPAQUE
END:VEVENT
END:VCALENDAR