BEGIN:VCALENDAR
VERSION:2.0
PRODID:-//Opernhaus//NONSGML//EN
METHOD:PUBLISH
CLASS:PUBLIC
BEGIN:VEVENT
UID:188740669ec3c185e750
DTSTART:20260913T120000Z
DTEND:20260913T140000Z
DTSTAMP:20260913T120000Z
CREATED:20260425T035920Z
LAST-MODIFIED:20260425T035920Z
SUMMARY:Oiseaux Rebelles
DESCRIPTION:Choreografien von Dani Rowe und Mats Ek
LOCATION:Opernhaus Zürich
URL:https://www.opernhaus.ch/spielplan/kalendarium/oiseaux-rebelles/
SEQUENCE:0
STATUS:CONFIRMED
TRANSP:OPAQUE
END:VEVENT
END:VCALENDAR