BEGIN:VCALENDAR
VERSION:2.0
PRODID:-//Opernhaus//NONSGML//EN
METHOD:PUBLISH
CLASS:PUBLIC
BEGIN:VEVENT
UID:235732269ec3beece0b7
DTSTART:20260916T180000Z
DTEND:20260916T200000Z
DTSTAMP:20260916T180000Z
CREATED:20260425T035838Z
LAST-MODIFIED:20260425T035838Z
SUMMARY:Oiseaux Rebelles
DESCRIPTION:Choreografien von Dani Rowe und Mats Ek
LOCATION:Opernhaus Zürich
URL:https://www.opernhaus.ch/spielplan/kalendarium/oiseaux-rebelles/
SEQUENCE:0
STATUS:CONFIRMED
TRANSP:OPAQUE
END:VEVENT
END:VCALENDAR