BEGIN:VCALENDAR
VERSION:2.0
PRODID:-//Opernhaus//NONSGML//EN
METHOD:PUBLISH
CLASS:PUBLIC
BEGIN:VEVENT
UID:39527369ec3c4ba342b
DTSTART:20260927T120000Z
DTEND:20260927T140000Z
DTSTAMP:20260927T120000Z
CREATED:20260425T040011Z
LAST-MODIFIED:20260425T040011Z
SUMMARY:Oiseaux Rebelles
DESCRIPTION:Choreografien von Dani Rowe und Mats Ek
LOCATION:Opernhaus Zürich
URL:https://www.opernhaus.ch/spielplan/kalendarium/oiseaux-rebelles/
SEQUENCE:0
STATUS:CONFIRMED
TRANSP:OPAQUE
END:VEVENT
END:VCALENDAR