BEGIN:VCALENDAR
VERSION:2.0
PRODID:-//Opernhaus//NONSGML//EN
METHOD:PUBLISH
CLASS:PUBLIC
BEGIN:VEVENT
UID:76053369ec3b8d781bb
DTSTART:20260929T170000Z
DTEND:20260929T200000Z
DTSTAMP:20260929T170000Z
CREATED:20260425T035701Z
LAST-MODIFIED:20260425T035701Z
SUMMARY:Die Fledermaus
DESCRIPTION:Operette von Johann Strauss
LOCATION:Opernhaus Zürich
URL:https://www.opernhaus.ch/spielplan/kalendarium/die-fledermaus-1/
SEQUENCE:0
STATUS:CONFIRMED
TRANSP:OPAQUE
END:VEVENT
END:VCALENDAR