BEGIN:VCALENDAR
VERSION:2.0
PRODID:-//Opernhaus//NONSGML//EN
METHOD:PUBLISH
CLASS:PUBLIC
BEGIN:VEVENT
UID:282140269ec3b8816461
DTSTART:20260917T170000Z
DTEND:20260917T190000Z
DTSTAMP:20260917T170000Z
CREATED:20260425T035656Z
LAST-MODIFIED:20260425T035656Z
SUMMARY:ZURICH TALKS DANCE
DESCRIPTION:Gesprächsreihe
LOCATION:Opernhaus Zürich
URL:https://www.opernhaus.ch/spielplan/kalendarium/zurich-talks-dance/
SEQUENCE:0
STATUS:CONFIRMED
TRANSP:OPAQUE
END:VEVENT
END:VCALENDAR