BEGIN:VCALENDAR
VERSION:2.0
PRODID:-//Opernhaus//NONSGML//EN
METHOD:PUBLISH
CLASS:PUBLIC
BEGIN:VEVENT
UID:159541769e5dbe91e72f
DTSTART:20261011T160000Z
DTEND:20261011T190000Z
DTSTAMP:20261011T160000Z
CREATED:20260420T075521Z
LAST-MODIFIED:20260420T075521Z
SUMMARY:Ein Sommernachtstraum
DESCRIPTION:Ballett von Cathy Marston
LOCATION:Opernhaus Zürich
URL:https://www.opernhaus.ch/spielplan/kalendarium/ein-sommernachtstraum/
SEQUENCE:0
STATUS:CONFIRMED
TRANSP:OPAQUE
END:VEVENT
END:VCALENDAR