BEGIN:VCALENDAR
VERSION:2.0
PRODID:-//Opernhaus//NONSGML//EN
METHOD:PUBLISH
CLASS:PUBLIC
BEGIN:VEVENT
UID:186786369e5db54b81ff
DTSTART:20261016T170000Z
DTEND:20261016T200000Z
DTSTAMP:20261016T170000Z
CREATED:20260420T075252Z
LAST-MODIFIED:20260420T075252Z
SUMMARY:Ein Sommernachtstraum
DESCRIPTION:Ballett von Cathy Marston
LOCATION:Opernhaus Zürich
URL:https://www.opernhaus.ch/spielplan/kalendarium/ein-sommernachtstraum/
SEQUENCE:0
STATUS:CONFIRMED
TRANSP:OPAQUE
END:VEVENT
END:VCALENDAR