BEGIN:VCALENDAR
VERSION:2.0
PRODID:-//Opernhaus//NONSGML//EN
METHOD:PUBLISH
CLASS:PUBLIC
BEGIN:VEVENT
UID:116360469e5dc11af8b8
DTSTART:20261008T173000Z
DTEND:20261008T203000Z
DTSTAMP:20261008T173000Z
CREATED:20260420T075601Z
LAST-MODIFIED:20260420T075601Z
SUMMARY:Die Fledermaus
DESCRIPTION:Operette von Johann Strauss
LOCATION:Opernhaus Zürich
URL:https://www.opernhaus.ch/spielplan/kalendarium/die-fledermaus-1/
SEQUENCE:0
STATUS:CONFIRMED
TRANSP:OPAQUE
END:VEVENT
END:VCALENDAR