BEGIN:VCALENDAR
VERSION:2.0
PRODID:-//Opernhaus//NONSGML//EN
METHOD:PUBLISH
CLASS:PUBLIC
BEGIN:VEVENT
UID:174173869e5dc9c4a18b
DTSTART:20261011T091500Z
DTEND:20261011T111500Z
DTSTAMP:20261011T091500Z
CREATED:20260420T075820Z
LAST-MODIFIED:20260420T075820Z
SUMMARY:2. Kammerkonzert
LOCATION:Opernhaus Zürich
URL:https://www.opernhaus.ch/spielplan/kalendarium/kammerkonzert-2/
SEQUENCE:0
STATUS:CONFIRMED
TRANSP:OPAQUE
END:VEVENT
END:VCALENDAR